BEGIN:VCALENDAR
METHOD:PUBLISH
PRODID:-//Your-Prodid-Here//NONSGML iCalcreator 0.9.15//
VERSION:2.0
BEGIN:VEVENT
CLASS:PUBLIC
DTSTART;VALUE=DATE-TIME:20250814T000000
DTEND;VALUE=DATE-TIME:20250818T000000
DTSTAMP:20260420T052405Z
LOCATION:Feuerwehr Strobenried
PRIORITY:3
SUMMARY:Reservierung Hüpfburg
UID:1a9b7327e60282102aecead8b8d7b9f0@your-domain.com
URL:https://www.kbi-dachau.de/reservierung-huepfburg_v_110.html
END:VEVENT
END:VCALENDAR
	
