BEGIN:VCALENDAR
METHOD:PUBLISH
PRODID:-//Your-Prodid-Here//NONSGML iCalcreator 0.9.15//
VERSION:2.0
BEGIN:VEVENT
CLASS:PUBLIC
DTSTART;VALUE=DATE-TIME:20250430T000000
DTEND;VALUE=DATE-TIME:20250504T000000
DTSTAMP:20260420T052406Z
LOCATION:Feuerwehr Strobenried
PRIORITY:3
SUMMARY:Reservierung Hüpfburg
UID:86a054b80c8a200689c3a956e23e20f0@your-domain.com
URL:https://www.kbi-dachau.de/reservierung-huepfburg_v_109.html
END:VEVENT
END:VCALENDAR
	
