BEGIN:VCALENDAR
METHOD:PUBLISH
PRODID:-//Your-Prodid-Here//NONSGML iCalcreator 0.9.15//
VERSION:2.0
BEGIN:VEVENT
CLASS:PUBLIC
DTSTART;VALUE=DATE-TIME:20250704T000000
DTEND;VALUE=DATE-TIME:20250705T000000
DTSTAMP:20260420T052405Z
LOCATION:Feuerwehr Unterweilbach 
PRIORITY:3
SUMMARY:Reservierung Hüpfburg
UID:49319d5003649a94a2f3fe641e24fc72@your-domain.com
URL:https://www.kbi-dachau.de/reservierung-huepfburg_v_108.html
END:VEVENT
END:VCALENDAR
	
