BEGIN:VCALENDAR
METHOD:PUBLISH
PRODID:-//Your-Prodid-Here//NONSGML iCalcreator 0.9.15//
VERSION:2.0
BEGIN:VEVENT
CLASS:PUBLIC
DTSTART;VALUE=DATE-TIME:20261009T000000
DTEND;VALUE=DATE-TIME:20261011T235900
DTSTAMP:20260420T052411Z
LOCATION:Feuerwehr Geiselbullach
PRIORITY:3
SUMMARY:Reservierung Hüpfburg
UID:073a298585d3d2d12f613b1e5b4ae685@your-domain.com
URL:https://www.kbi-dachau.de/reservierung-huepfburg_v_107.html
END:VEVENT
END:VCALENDAR
	
