BEGIN:VCALENDAR
METHOD:PUBLISH
PRODID:-//Your-Prodid-Here//NONSGML iCalcreator 0.9.15//
VERSION:2.0
BEGIN:VEVENT
CLASS:PUBLIC
DTSTART;VALUE=DATE-TIME:20240727T000000
DTEND;VALUE=DATE-TIME:20240728T235900
DTSTAMP:20260420T052259Z
LOCATION:Feuerwehr Leitheim
PRIORITY:3
SUMMARY:Reservierung Hüpfburg
UID:5486ae330316a75c84a455ef26d32cb1@your-domain.com
URL:https://www.kbi-dachau.de/reservierung-huepfburg_v_105.html
END:VEVENT
END:VCALENDAR
	
