BEGIN:VCALENDAR
METHOD:PUBLISH
PRODID:-//Your-Prodid-Here//NONSGML iCalcreator 0.9.15//
VERSION:2.0
BEGIN:VEVENT
CLASS:PUBLIC
DTSTART;VALUE=DATE-TIME:20250613T000000
DTEND;VALUE=DATE-TIME:20250616T235900
DTSTAMP:20260420T052411Z
LOCATION:Feuerwehr Hörzhausen
PRIORITY:3
SUMMARY:Reservierung Hüpfburg
UID:e4e172d89d0b300973c63edb2b960a4b@your-domain.com
URL:https://www.kbi-dachau.de/reservierung-huepfburg_v_104.html
END:VEVENT
END:VCALENDAR
	
