BEGIN:VCALENDAR
METHOD:PUBLISH
PRODID:-//Your-Prodid-Here//NONSGML iCalcreator 0.9.15//
VERSION:2.0
BEGIN:VEVENT
CLASS:PUBLIC
DTSTART;VALUE=DATE-TIME:20240531T211000
DTEND;VALUE=DATE-TIME:20240531T211000
DTSTAMP:20260420T052405Z
LOCATION:Katastrophenschutzzentrum
PRIORITY:3
SUMMARY:Reservierung Hüpfburg
UID:ab26140756ee3bf8c6f2f32c34f9cc14@your-domain.com
URL:https://www.kbi-dachau.de/reservierung-huepfburg_v_102.html
END:VEVENT
END:VCALENDAR
	
