BEGIN:VCALENDAR
METHOD:PUBLISH
PRODID:-//Your-Prodid-Here//NONSGML iCalcreator 0.9.15//
VERSION:2.0
BEGIN:VEVENT
CLASS:PUBLIC
DTSTART;VALUE=DATE-TIME:20260522T000000
DTEND;VALUE=DATE-TIME:20260524T000000
DTSTAMP:20260420T075318Z
LOCATION:Feuerwehr Altmannstein
PRIORITY:3
SUMMARY:Reservierung Hüpfburg
UID:4f5ea01fc6d4d6e14c4a274920972917@your-domain.com
URL:https://www.kbi-dachau.de/reservierung-huepfburg_v_101.html
END:VEVENT
END:VCALENDAR
	
