BEGIN:VCALENDAR
METHOD:PUBLISH
PRODID:-//Your-Prodid-Here//NONSGML iCalcreator 0.9.15//
VERSION:2.0
BEGIN:VEVENT
CLASS:PUBLIC
DTSTART;VALUE=DATE-TIME:20250529T000000
DTEND;VALUE=DATE-TIME:20250602T000000
DTSTAMP:20260420T052019Z
LOCATION:Feuerwehr Garching/Alz
PRIORITY:3
SUMMARY:Reservierung Hüpfburg
UID:9e20858574a7ce99027d68cc9af359f1@your-domain.com
URL:https://www.kbi-dachau.de/reservierung-huepfburg_v_100.html
END:VEVENT
END:VCALENDAR
	
