BEGIN:VCALENDAR
METHOD:PUBLISH
PRODID:-//Your-Prodid-Here//NONSGML iCalcreator 0.9.15//
VERSION:2.0
BEGIN:VEVENT
CLASS:PUBLIC
DTSTART;VALUE=DATE-TIME:20240508T000000
DTEND;VALUE=DATE-TIME:20240512T235900
DTSTAMP:20260420T052054Z
LOCATION:Feuerwehr Altenstadt
PRIORITY:3
SUMMARY:Reservierung Hüpfburg
UID:41fb1480c3daae858acedcd6034e4d64@your-domain.com
URL:https://www.kbi-dachau.de/reservierung-huepfburg_v_10.html
END:VEVENT
END:VCALENDAR
	
