BEGIN:VCALENDAR
METHOD:PUBLISH
PRODID:-//Your-Prodid-Here//NONSGML iCalcreator 0.9.15//
VERSION:2.0
BEGIN:VEVENT
CLASS:PUBLIC
DTSTART;VALUE=DATE-TIME:20231218T180000
DTEND;VALUE=DATE-TIME:20231222T220000
DTSTAMP:20260420T052137Z
LOCATION:FwGH Dachau
PRIORITY:3
SUMMARY:Chemikalienschutzanzug -Grundkurs- 2023-03
UID:5b0e5423f366329fd74006b2c561935d@your-domain.com
URL:https://www.kbi-dachau.de/chemikalienschutzanzug-grundkurs-2023-03_v_1.html
END:VEVENT
END:VCALENDAR
	
